Workbook
Name AMM: 'Detailed Member Analysis'!$AK$5:$AK$83
Name marketing: 'Detailed Member Analysis'!$AJ$5:$AJ$83
Name member_level: 'Detailed Member Analysis'!$H$5:$H$83
Name members: 'Members from Weekly Report'!$A:$Y
Name primary: 'Members from Weekly Report'!$A$1:$Y$139
Name showcase: 'Detailed Member Analysis'!$AM$5:$AM$83
Name Slicer_Membership_Level: #N/A
Name target: 'Detailed Member Analysis'!$AN$5:$AN$83
Name technical: 'Detailed Member Analysis'!$AH$5:$AH$83

Sheet Dashboard
A1: MEMBER ANALYSIS REPORT as of 9/8/2023
A4: Company | B4: Groupand Project Engagement | C4: Business Engagement | D4: Status | E4: Solid | F4: Moderate | G4: At Risk | H4: Membership Level | I4: Membership Level $
A5: Aicas GmbH | B5: X | C5: X | D5: =IF(E5="x","green",IF(G5="x","red",IF(F5="x","yellow","unknown"))) -> green | E5: X | H5: Associate | I5: =VLOOKUP(H5, 'Member Status'!$R$4:$S$8,2, FALSE) -> 12000
A6: Aiden Automotive Technologies Inc. | B6: X | C6: X | D6: =IF(E6="x","green",IF(G6="x","red",IF(F6="x","yellow","unknown"))) -> green | E6: X | H6: StartUp | I6: =VLOOKUP(H6, 'Member Status'!$R$4:$S$8,2, FALSE) -> 2000
A7: Altia, Inc. | C7: X | D7: =IF(E7="x","green",IF(G7="x","red",IF(F7="x","yellow","unknown"))) -> green | E7: X | H7: Associate | I7: =VLOOKUP(H7, 'Member Status'!$R$4:$S$8,2, FALSE) -> 12000
A8: ANSYS, Inc | B8: X | C8: X | D8: =IF(E8="x","green",IF(G8="x","red",IF(F8="x","yellow","unknown"))) -> green | E8: X | H8: Associate | I8: =VLOOKUP(H8, 'Member Status'!$R$4:$S$8,2, FALSE) -> 12000
A9: Aptiv Services Deutschland GmbH | B9: X | C9: X | D9: =IF(E9="x","green",IF(G9="x","red",IF(F9="x","yellow","unknown"))) -> green | E9: X | H9: Associate | I9: =VLOOKUP(H9, 'Member Status'!$R$4:$S$8,2, FALSE) -> 12000
A10: Area X. O. | C10: X | D10: =IF(E10="x","green",IF(G10="x","red",IF(F10="x","yellow","unknown"))) -> green | E10: X | H10: StartUp | I10: =VLOOKUP(H10, 'Member Status'!$R$4:$S$8,2, FALSE) -> 2000
A11: BlackBerry UK Limited | B11: X | C11: X | D11: =IF(E11="x","green",IF(G11="x","red",IF(F11="x","yellow","unknown"))) -> green | E11: X | H11: Associate | I11: =VLOOKUP(H11, 'Member Status'!$R$4:$S$8,2, FALSE) -> 12000
A12: BMW AG | B12: X | C12: X | D12: =IF(E12="x","green",IF(G12="x","red",IF(F12="x","yellow","unknown"))) -> green | E12: X | H12: Charter | I12: =VLOOKUP(H12, 'Member Status'!$R$4:$S$8,2, FALSE) -> 75000
A13: Cinemo GmbH | B13: X | C13: X | D13: =IF(E13="x","green",IF(G13="x","red",IF(F13="x","yellow","unknown"))) -> green | E13: X | H13: Associate | I13: =VLOOKUP(H13, 'Member Status'!$R$4:$S$8,2, FALSE) -> 12000
A14: Dark Star | C14: X | D14: =IF(E14="x","green",IF(G14="x","red",IF(F14="x","yellow","unknown"))) -> green | E14: X | H14: StartUp | I14: =VLOOKUP(H14, 'Member Status'!$R$4:$S$8,2, FALSE) -> 2000
A15: Elektrobit | B15: X | C15: X | D15: =IF(E15="x","green",IF(G15="x","red",IF(F15="x","yellow","unknown"))) -> green | E15: X | H15: Associate | I15: =VLOOKUP(H15, 'Member Status'!$R$4:$S$8,2, FALSE) -> 12000
A16: Emergency Safety Solutions | B16: X | C16: X | D16: =IF(E16="x","green",IF(G16="x","red",IF(F16="x","yellow","unknown"))) -> green | E16: X | H16: StartUp | I16: =VLOOKUP(H16, 'Member Status'!$R$4:$S$8,2, FALSE) -> 2000
A17: Endava | B17: X | C17: X | D17: =IF(E17="x","green",IF(G17="x","red",IF(F17="x","yellow","unknown"))) -> green | E17: X | H17: Associate | I17: =VLOOKUP(H17, 'Member Status'!$R$4:$S$8,2, FALSE) -> 12000
A18: ETRI | B18: X | C18: X | D18: =IF(E18="x","green",IF(G18="x","red",IF(F18="x","yellow","unknown"))) -> green | E18: X | H18: Associate | I18: =VLOOKUP(H18, 'Member Status'!$R$4:$S$8,2, FALSE) -> 12000
A19: EVware | B19: X | C19: X | D19: =IF(E19="x","green",IF(G19="x","red",IF(F19="x","yellow","unknown"))) -> green | E19: X | H19: StartUp | I19: =VLOOKUP(H19, 'Member Status'!$R$4:$S$8,2, FALSE) -> 2000
A20: Ford Motor Company | B20: X | C20: X | D20: =IF(E20="x","green",IF(G20="x","red",IF(F20="x","yellow","unknown"))) -> green | E20: X | H20: Charter | I20: =VLOOKUP(H20, 'Member Status'!$R$4:$S$8,2, FALSE) -> 75000
A21: Forvia - Faurecia Clarion Electronics | B21: X | C21: X | D21: =IF(E21="x","green",IF(G21="x","red",IF(F21="x","yellow","unknown"))) -> green | E21: X | H21: Core | I21: =VLOOKUP(H21, 'Member Status'!$R$4:$S$8,2, FALSE) -> 30000
A22: Geotab | B22: X | C22: X | D22: =IF(E22="x","green",IF(G22="x","red",IF(F22="x","yellow","unknown"))) -> green | E22: X | H22: Core | I22: =VLOOKUP(H22, 'Member Status'!$R$4:$S$8,2, FALSE) -> 30000
A23: GM Global Technology Operations LLC | B23: X | C23: X | D23: =IF(E23="x","green",IF(G23="x","red",IF(F23="x","yellow","unknown"))) -> green | E23: X | H23: Core | I23: =VLOOKUP(H23, 'Member Status'!$R$4:$S$8,2, FALSE) -> 30000
A24: Grape Up | B24: X | C24: X | D24: =IF(E24="x","green",IF(G24="x","red",IF(F24="x","yellow","unknown"))) -> green | E24: X | H24: Associate | I24: =VLOOKUP(H24, 'Member Status'!$R$4:$S$8,2, FALSE) -> 12000
A25: HAAS Alert | B25: X | C25: X | D25: =IF(E25="x","green",IF(G25="x","red",IF(F25="x","yellow","unknown"))) -> green | E25: X | H25: StartUp | I25: =VLOOKUP(H25, 'Member Status'!$R$4:$S$8,2, FALSE) -> 2000
A26: Hyundai Mobis Co., Ltd | B26: X | C26: X | D26: =IF(E26="x","green",IF(G26="x","red",IF(F26="x","yellow","unknown"))) -> green | E26: X | H26: Core | I26: =VLOOKUP(H26, 'Member Status'!$R$4:$S$8,2, FALSE) -> 30000
A27: Hyundai Motor Group | C27: X | D27: =IF(E27="x","green",IF(G27="x","red",IF(F27="x","yellow","unknown"))) -> green | E27: X | H27: Associate | I27: =VLOOKUP(H27, 'Member Status'!$R$4:$S$8,2, FALSE) -> 12000
A28: innovation works | B28: X | C28: X | D28: =IF(E28="x","green",IF(G28="x","red",IF(F28="x","yellow","unknown"))) -> green | E28: X | H28: StartUp | I28: =VLOOKUP(H28, 'Member Status'!$R$4:$S$8,2, FALSE) -> 2000
A29: Intellias Global Limited | B29: X | C29: X | D29: =IF(E29="x","green",IF(G29="x","red",IF(F29="x","yellow","unknown"))) -> green | E29: X | H29: Associate | I29: =VLOOKUP(H29, 'Member Status'!$R$4:$S$8,2, FALSE) -> 12000
A30: LG Electronics | C30: X | D30: =IF(E30="x","green",IF(G30="x","red",IF(F30="x","yellow","unknown"))) -> green | E30: X | H30: Associate | I30: =VLOOKUP(H30, 'Member Status'!$R$4:$S$8,2, FALSE) -> 12000
A31: MAVI.io | B31: X | C31: X | D31: =IF(E31="x","green",IF(G31="x","red",IF(F31="x","yellow","unknown"))) -> green | E31: X | H31: StartUp | I31: =VLOOKUP(H31, 'Member Status'!$R$4:$S$8,2, FALSE) -> 2000
A32: Mbition Mercedes | B32: X | C32: X | D32: =IF(E32="x","green",IF(G32="x","red",IF(F32="x","yellow","unknown"))) -> green | E32: X | H32: Core | I32: =VLOOKUP(H32, 'Member Status'!$R$4:$S$8,2, FALSE) -> 30000
A33: MongoDB | B33: X | C33: X | D33: =IF(E33="x","green",IF(G33="x","red",IF(F33="x","yellow","unknown"))) -> green | E33: X | H33: Associate | I33: =VLOOKUP(H33, 'Member Status'!$R$4:$S$8,2, FALSE) -> 12000
A34: NXP Semiconductors Netherlands B.V. | C34: X | D34: =IF(E34="x","green",IF(G34="x","red",IF(F34="x","yellow","unknown"))) -> green | E34: X | H34: Associate | I34: =VLOOKUP(H34, 'Member Status'!$R$4:$S$8,2, FALSE) -> 12000
A35: Qaiware | C35: X | D35: =IF(E35="x","green",IF(G35="x","red",IF(F35="x","yellow","unknown"))) -> green | E35: X | H35: Associate | I35: =VLOOKUP(H35, 'Member Status'!$R$4:$S$8,2, FALSE) -> 12000
A36: Quu, Inc. | C36: X | D36: =IF(E36="x","green",IF(G36="x","red",IF(F36="x","yellow","unknown"))) -> green | E36: X | H36: StartUp | I36: =VLOOKUP(H36, 'Member Status'!$R$4:$S$8,2, FALSE) -> 2000
A37: Real Time Innovations | B37: X | C37: X | D37: =IF(E37="x","green",IF(G37="x","red",IF(F37="x","yellow","unknown"))) -> green | E37: X | H37: Core | I37: =VLOOKUP(H37, 'Member Status'!$R$4:$S$8,2, FALSE) -> 30000
A38: RemotiveLabs | B38: X | C38: X | D38: =IF(E38="x","green",IF(G38="x","red",IF(F38="x","yellow","unknown"))) -> green | E38: X | H38: StartUp | I38: =VLOOKUP(H38, 'Member Status'!$R$4:$S$8,2, FALSE) -> 2000
A39: Renesas Electronics | B39: X | C39: X | D39: =IF(E39="x","green",IF(G39="x","red",IF(F39="x","yellow","unknown"))) -> green | E39: X | H39: Core | I39: =VLOOKUP(H39, 'Member Status'!$R$4:$S$8,2, FALSE) -> 30000
A40: Rightware | C40: X | D40: =IF(E40="x","green",IF(G40="x","red",IF(F40="x","yellow","unknown"))) -> green | E40: X | H40: Associate | I40: =VLOOKUP(H40, 'Member Status'!$R$4:$S$8,2, FALSE) -> 12000
A41: Robert Bosch GmbH | B41: X | C41: X | D41: =IF(E41="x","green",IF(G41="x","red",IF(F41="x","yellow","unknown"))) -> green | E41: X | H41: Charter | I41: =VLOOKUP(H41, 'Member Status'!$R$4:$S$8,2, FALSE) -> 75000
A42: Sheeva.AI | C42: X | D42: =IF(E42="x","green",IF(G42="x","red",IF(F42="x","yellow","unknown"))) -> green | E42: X | H42: StartUp | I42: =VLOOKUP(H42, 'Member Status'!$R$4:$S$8,2, FALSE) -> 2000
...

Sheet Detailed Member Analysis
A1: MEMBER ANALYSIS REPORT as of 9/8/2023
K3: Groups | R3: Other | T3: Projects | AA3: Interests | AE3: Sponsor at Events | AK3: Attended These Events
A4: Company | B4: Groupand Project Engagement | C4: Business Engagement | D4: Status | E4: Solid | F4: Moderate | G4: At Risk | H4: Level | I4: Follow-up Needed | J4: Onboard Needed | K4: Data Expert Group | L4: EV Charging Expert Group | M4: Vehicle Experience | N4: Technical Steering Team | O4: AOSP App Std Expert Group | P4: Commercial Vehicle BoF | Q4: Vehicle as a Wallet | R4: Board | S4: Marketing Team | T4: VSS | U4: VSSo | V4: Architecture | W4: EV Charging Event Data Aggregation | X4: EV Optimization | Y4: Payments | Z4: Saftey | AA4: Simulation / Digital Twin / AI | AB4: SDV | AC4: Testing and Validation | AE4: Detroit AMM 2022 | AF4: CES 2023 | AG4: Porto AMM 2023 | AH4: AutoTech 2023 | AI4: Detroit Fall AMM 2023 | AJ4: CES 2024 | AK4: Detroit AMM 2022 | AL4: CES 2023 | AM4: Porto AMM 2023 | AN4: AutoTech 2023 | AO4: Detroit Fall AMM 2023 | AP4: CES 2024 | AQ4: Join Date | AR4: Membership Renewal Date | AS4: Category | AT4: Comments
A5: ACERTA ANALYTICS SOLUTIONS, INC. | C5: X | D5: =IF(E5="x","green",IF(G5="x","red",IF(F5="x","yellow","unknown"))) -> yellow | F5: X | H5: StartUp | I5: X | Z5: o | AA5: X | AF5: X | AI5: o | AJ5: o | AL5: X | AO5: o | AP5: o | AQ5: 44545 | AS5: OSV, Middleware, H&S
A6: Aicas GmbH | B6: X | C6: X | D6: =IF(E6="x","green",IF(G6="x","red",IF(F6="x","yellow","unknown"))) -> green | E6: X | H6: Associate | M6: X | T6: X | AG6: X | AH6: X | AI6: X | AJ6: o | AK6: X | AL6: X | AM6: X | AN6: X | AO6: X | AP6: o | AQ6: 44938 | AS6: OSV, Middleware, H&S
A7: Aiden Automotive Technologies Inc. | B7: X | C7: X | D7: =IF(E7="x","green",IF(G7="x","red",IF(F7="x","yellow","unknown"))) -> green | E7: X | H7: StartUp | I7: X | M7: o | Q7: X | Y7: X | AF7: X | AG7: X | AI7: o | AK7: X | AL7: X | AM7: X | AN7: X | AO7: o | AP7: o | AQ7: 44470 | AS7: OSV, Middleware, H&S
A8: ALPS ALPINE EUROPE GmbH | D8: =IF(E8="x","green",IF(G8="x","red",IF(F8="x","yellow","unknown"))) -> red | G8: X | H8: Associate | I8: X | AL8: X | AQ8: 40031 | AS8: Tier 1
A9: Altia, Inc. | C9: X | D9: =IF(E9="x","green",IF(G9="x","red",IF(F9="x","yellow","unknown"))) -> green | E9: X | H9: Associate | AF9: X | AK9: X | AL9: X | AN9: X | AO9: o | AP9: o | AQ9: 42947 | AS9: OSV, Middleware, H&S
A10: ANELLO Photonics | C10: X | D10: =IF(E10="x","green",IF(G10="x","red",IF(F10="x","yellow","unknown"))) -> red | G10: X | H10: StartUp | I10: X | AF10: X | AL10: X | AQ10: 44621 | AS10: Silicon
A11: ANSYS, Inc | B11: X | C11: X | D11: =IF(E11="x","green",IF(G11="x","red",IF(F11="x","yellow","unknown"))) -> green | E11: X | H11: Associate | L11: X | AA11: X | AH11: X | AI11: o | AJ11: o | AK11: X | AL11: X | AM11: X | AN11: X | AO11: o | AP11: o | AQ11: 44917 | AS11: OSV, Middleware, H&S
A12: Aptiv Services Deutschland GmbH | B12: X | C12: X | D12: =IF(E12="x","green",IF(G12="x","red",IF(F12="x","yellow","unknown"))) -> green | E12: X | H12: Associate | K12: X | L12: X | N12: X | R12: X | T12: X | U12: X | V12: X | W12: X | AG12: X | AL12: X | AM12: X | AN12: X | AQ12: 39888 | AS12: Tier 1
A13: Area X. O. | C13: X | D13: =IF(E13="x","green",IF(G13="x","red",IF(F13="x","yellow","unknown"))) -> green | E13: X | H13: StartUp | I13: X | Z13: o | AC13: X | AE13: X | AF13: X | AH13: X | AI13: o | AJ13: o | AK13: X | AL13: X | AN13: X | AO13: o | AP13: o | AQ13: 44719 | AS13: OSV, Middleware, H&S
A14: ARM LTD | C14: X | D14: =IF(E14="x","green",IF(G14="x","red",IF(F14="x","yellow","unknown"))) -> yellow | F14: X | H14: Associate | I14: X | AG14: X | AL14: X | AM14: X | AN14: X | AO14: o | AP14: o | AQ14: 40205 | AS14: Silicon
A15: BlackBerry UK Limited | B15: X | C15: X | D15: =IF(E15="x","green",IF(G15="x","red",IF(F15="x","yellow","unknown"))) -> green | E15: X | H15: Associate | T15: X | V15: X | AI15: X | AJ15: o | AL15: X | AM15: X | AN15: X | AO15: X | AP15: o | AQ15: 45021 | AS15: OSV, Middleware, H&S
A16: BMW AG | B16: X | C16: X | D16: =IF(E16="x","green",IF(G16="x","red",IF(F16="x","yellow","unknown"))) -> green | E16: X | H16: Charter | K16: X | N16: X | O16: X | R16: X | T16: X | U16: X | V16: X | AJ16: o | AK16: X | AM16: X | AO16: X | AQ16: 39888 | AS16: OEM
A17: Cinemo GmbH | B17: X | C17: X | D17: =IF(E17="x","green",IF(G17="x","red",IF(F17="x","yellow","unknown"))) -> green | E17: X | H17: Associate | AE17: X | AI17: o | AJ17: o | AK17: X | AL17: X | AM17: X | AN17: o | AO17: o | AP17: o | AQ17: 40136 | AS17: OSV, Middleware, H&S
A18: CTAG | D18: =IF(E18="x","green",IF(G18="x","red",IF(F18="x","yellow","unknown"))) -> red | G18: X | H18: Associate | I18: X | AM18: X | AQ18: 40504 | AS18: OSV, Middleware, H&S
A19: Dark Star | C19: X | D19: =IF(E19="x","green",IF(G19="x","red",IF(F19="x","yellow","unknown"))) -> green | E19: X | H19: StartUp | M19: X | Z19: X | AE19: X | AF19: X | AH19: X | AI19: X | AJ19: X | AL19: X | AN19: X | AO19: o | AP19: o | AQ19: 44880 | AS19: OSV, Middleware, H&S
A20: Dassault Systèmes | C20: X | D20: =IF(E20="x","green",IF(G20="x","red",IF(F20="x","yellow","unknown"))) -> yellow | F20: X | H20: Associate | I20: X | AA20: X | AK20: X | AQ20: 44995 | AS20: OSV, Middleware, H&S
A21: Denso Corporation | C21: X | D21: =IF(E21="x","green",IF(G21="x","red",IF(F21="x","yellow","unknown"))) -> yellow | F21: X | H21: Core | I21: X | AK21: X | AL21: X | AM21: X | AN21: X | AQ21: 40606 | AS21: Tier 1
A22: Elektrobit | B22: X | C22: X | D22: =IF(E22="x","green",IF(G22="x","red",IF(F22="x","yellow","unknown"))) -> green | E22: X | H22: Associate | O22: X | P22: X | T22: X | AF22: X | AH22: X | AI22: o | AJ22: o | AK22: X | AL22: X | AM22: X | AN22: X | AO22: o | AP22: o | AQ22: 44939 | AS22: OSV, Middleware, H&S
A23: Emergency Safety Solutions | B23: X | C23: X | D23: =IF(E23="x","green",IF(G23="x","red",IF(F23="x","yellow","unknown"))) -> green | E23: X | H23: StartUp | M23: X | Z23: X | AE23: X | AF23: X | AH23: X | AI23: X | AJ23: X | AK23: X | AL23: X | AN23: X | AO23: o | AP23: o | AQ23: 44699 | AS23: OSV, Middleware, H&S
A24: Endava | B24: X | C24: X | D24: =IF(E24="x","green",IF(G24="x","red",IF(F24="x","yellow","unknown"))) -> green | E24: X | H24: Associate | P24: X | T24: X | U24: X | Y24: X | AA24: X | AB24: X | AH24: X | AI24: o | AJ24: o | AL24: X | AN24: X | AO24: o | AP24: o | AQ24: 45149 | AS24: OSV, Middleware, H&S
A25: ETRI | B25: X | C25: X | D25: =IF(E25="x","green",IF(G25="x","red",IF(F25="x","yellow","unknown"))) -> green | E25: X | H25: Associate | I25: X | AK25: X | AM25: X | AQ25: 44803 | AS25: OSV, Middleware, H&S
A26: EVware | B26: X | C26: X | D26: =IF(E26="x","green",IF(G26="x","red",IF(F26="x","yellow","unknown"))) -> green | E26: X | H26: StartUp | I26: X | M26: o | O26: o | T26: o | AF26: X | AI26: X | AL26: X | AO26: o | AP26: o | AQ26: 44635 | AS26: OSV, Middleware, H&S
A27: Ford Motor Company | B27: X | C27: X | D27: =IF(E27="x","green",IF(G27="x","red",IF(F27="x","yellow","unknown"))) -> green | E27: X | H27: Charter | K27: X | L27: X | R27: X | T27: X | U27: X | W27: X | AE27: X | AG27: X | AI27: X | AK27: X | AL27: X | AM27: X | AN27: X | AO27: X | AP27: X | AQ27: 44540 | AS27: OEM
A28: Forvia - Faurecia Clarion Electronics | B28: X | C28: X | D28: =IF(E28="x","green",IF(G28="x","red",IF(F28="x","yellow","unknown"))) -> green | E28: X | H28: Core | O28: X | T28: X | AL28: X | AM28: X | AN28: X | AQ28: Pending | AS28: Tier 1
A29: Garmin Switzerland GmbH | D29: =IF(E29="x","green",IF(G29="x","red",IF(F29="x","yellow","unknown"))) -> red | G29: X | H29: Associate | I29: X | AK29: X | AQ29: 40212 | AS29: Tier 1
A30: Geotab | B30: X | C30: X | D30: =IF(E30="x","green",IF(G30="x","red",IF(F30="x","yellow","unknown"))) -> green | E30: X | H30: Core | K30: X | L30: X | N30: X | O30: X | P30: X | R30: X | T30: X | U30: X | V30: X | W30: X | Y30: o | AF30: X | AI30: o | AJ30: o | AK30: X | AL30: X | AM30: X | AN30: X | AO30: o | AP30: o | AQ30: 44139 | AS30: OSV, Middleware, H&S
A31: GitHub | C31: X | D31: =IF(E31="x","green",IF(G31="x","red",IF(F31="x","yellow","unknown"))) -> red | G31: X | H31: Associate | I31: X | AH31: X | AN31: X | AQ31: 42941 | AS31: OSV, Middleware, H&S
A32: GM Global Technology Operations LLC | B32: X | C32: X | D32: =IF(E32="x","green",IF(G32="x","red",IF(F32="x","yellow","unknown"))) -> green | E32: X | H32: Core | K32: X | O32: X | R32: X | T32: X | U32: X | V32: X | W32: X | AK32: X | AL32: X | AN32: X | AO32: o | AP32: o | AQ32: 45112 | AS32: OEM
A33: Grape Up | B33: X | C33: X | D33: =IF(E33="x","green",IF(G33="x","red",IF(F33="x","yellow","unknown"))) -> green | E33: X | H33: Associate | T33: X | W33: X | AF33: X | AG33: X | AH33: X | AJ33: X | AL33: X | AM33: X | AN33: X | AP33: X | AQ33: 44805 | AS33: OSV, Middleware, H&S
A34: GreenV Mobilidade Eletrica Brasil SA | D34: =IF(E34="x","green",IF(G34="x","red",IF(F34="x","yellow","unknown"))) -> red | G34: X | H34: StartUp | I34: X | AQ34: 44918 | AS34: OSV, Middleware, H&S
A35: HAAS Alert | B35: X | C35: X | D35: =IF(E35="x","green",IF(G35="x","red",IF(F35="x","yellow","unknown"))) -> green | E35: X | H35: StartUp | M35: X | Z35: X | AE35: X | AF35: X | AH35: X | AI35: X | AJ35: X | AK35: X | AL35: X | AN35: X | AO35: o | AP35: o | AQ35: 42711 | AS35: OSV, Middleware, H&S
A36: Harmonic Financial Technology | C36: X | D36: =IF(E36="x","green",IF(G36="x","red",IF(F36="x","yellow","unknown"))) -> yellow | F36: X | H36: StartUp | AN36: X | AQ36: 45077 | AS36: Other
A37: Honda R&D Europe | C37: X | D37: =IF(E37="x","green",IF(G37="x","red",IF(F37="x","yellow","unknown"))) -> green | E37: X | H37: Associate | I37: X | AK37: X | AL37: X | AM37: X | AN37: X | AQ37: 40651 | AS37: OEM
A38: Humanising Autonomy | C38: X | D38: =IF(E38="x","green",IF(G38="x","red",IF(F38="x","yellow","unknown"))) -> yellow | F38: X | H38: StartUp | I38: X | M38: o | Z38: X | AA38: o | AE38: X | AH38: X | AI38: o | AK38: X | AL38: X | AN38: X | AO38: o | AP38: o | AQ38: 44655 | AS38: OSV, Middleware, H&S
A39: Hyundai Mobis Co., Ltd | B39: X | C39: X | D39: =IF(E39="x","green",IF(G39="x","red",IF(F39="x","yellow","unknown"))) -> green | E39: X | H39: Core | L39: X | T39: X | W39: X | X39: X | AG39: X | AI39: X | AK39: X | AL39: X | AM39: X | AN39: X | AO39: o | AQ39: 40597 | AS39: Tier 1
A40: Hyundai Motor Group | C40: X | D40: =IF(E40="x","green",IF(G40="x","red",IF(F40="x","yellow","unknown"))) -> green | E40: X | H40: Associate | AE40: X | AG40: X | AI40: X | AL40: X | AM40: X | AO40: X | AQ40: 40301 | AS40: OEM
A41: innovation works | B41: X | C41: X | D41: =IF(E41="x","green",IF(G41="x","red",IF(F41="x","yellow","unknown"))) -> green | E41: X | H41: StartUp | M41: X | S41: o | T41: o | AE41: X | AF41: X | AK41: X | AL41: X | AN41: X | AO41: X | AP41: X | AQ41: 44698 | AS41: OSV, Middleware, H&S
...

Sheet Members from Weekly Report
A1: company_name | B1: Join_Date | C1: URL | D1: Level | E1: Industry | F1: Company_Status | G1: Prim | H1: Secondary | I1: PR | J1: Billing | K1: Marketing | L1: Technical | M1: Showcase | N1: Title | O1: First_Name | P1: Last_Name | Q1: Email | R1: Phone | S1: Address1 | T1: Address2 | U1: City | V1: State_Province | W1: Country | X1: postalCode | Y1: Contact_Status
A2: ACERTA ANALYTICS SOLUTIONS, INC. | B2: 2021-12-14T00:00:00-06:00 | C2: https://acerta.ai | D2: Start-up Associate | E2: Other | F2: Current | G2: YES | N2: CEO | O2: Greta | P2: Cutulenco | Q2: gcutulenco@acerta.ai | R2: 5197295543 | S2: 30 DUKE STREET WEST | T2: SUITE 605 | U2: Kitchener | V2: Ontario | W2: Canada | X2: N2H 3W5 | Y2: Active
A3: ACERTA ANALYTICS SOLUTIONS, INC. | B3: 2021-12-14T00:00:00-06:00 | C3: https://acerta.ai | D3: Start-up Associate | E3: Other | F3: Current | J3: YES | N3: Office Manager | O3: Anne | P3: Lowndes | Q3: finance@acerta.ai | R3: 416-275-4288 | S3: 30 DUKE STREET WEST | T3: SUITE 605 | U3: Kitchener | V3: Ontario | W3: Canada | X3: N2H 3W5 | Y3: Active
A4: ACERTA ANALYTICS SOLUTIONS, INC. | B4: 2021-12-14T00:00:00-06:00 | C4: https://acerta.ai | D4: Start-up Associate | E4: Other | F4: Current | K4: YES | N4: Senior Director of Marketing | O4: Heidi | P4: Marr | Q4: hmarr@acerta.ai | R4: 5195741358 | S4: 30 DUKE STREET WEST | T4: SUITE 605 | U4: KITCHENER | V4: Ontario | W4: Canada | X4: N2H 3W5 | Y4: Active
A5: aicas GmbH | B5: 2023-01-12T00:00:00-06:00 | C5: www.aicas.com | D5: Associate | E5: OSV, Middleware, Hardware & Services Suppliers,Tier 1 | F5: Current | H5: YES | L5: YES | N5: CTO | O5: James | P5: Hunt | Q5: jjh@aicas.com | R5: 4972166396822 | S5: aicas GmbH | T5: Emmy-Noether-Strasse 9 | U5: Karlsruhe | V5: BW | W5: Germany | X5: 71631 | Y5: Active
A6: aicas GmbH | B6: 2023-01-12T00:00:00-06:00 | C6: www.aicas.com | D6: Associate | E6: OSV, Middleware, Hardware & Services Suppliers,Tier 1 | F6: Current | K6: YES | O6: Stefanie | P6: Leich | Q6: stefanie.leich@aicas.com | S6: aicas GmbH | T6: Emmy-Noether-Strasse 9 | U6: Karlsruhe | V6: BW | W6: Germany | X6: 71631 | Y6: Active
A7: aicas GmbH | B7: 2023-01-12T00:00:00-06:00 | C7: www.aicas.com | D7: Associate | E7: OSV, Middleware, Hardware & Services Suppliers,Tier 1 | F7: Current | G7: YES | I7: YES | K7: YES | N7: President & COO | O7: Johannes | P7: Biermann | Q7: johannes.biermann@aicas.com | R7: 4972166396824 | S7: aicas GmbH | T7: Emmy-Noether-Strasse 9 | U7: Karlsruhe | V7: BW | W7: Germany | X7: 71631 | Y7: Active
A8: aicas GmbH | B8: 2023-01-12T00:00:00-06:00 | C8: www.aicas.com | D8: Associate | E8: OSV, Middleware, Hardware & Services Suppliers,Tier 1 | F8: Current | J8: YES | N8: CFO | O8: Oliver | P8: Remus | Q8: oliver.remus@aicas.com | R8: 4972166396827 | S8: aicas GmbH | T8: Emmy-Noether-Strasse 9 | U8: Karlsruhe | V8: BW | W8: Germany | X8: 71631 | Y8: Active
A9: Aiden Automotive Technologies Inc. | B9: 2021-09-30T00:00:00-05:00 | C9: www.aidenabled.com | D9: Start-up Associate | E9: OSV, Middleware, Hardware & Services Suppliers,Other | F9: Current | G9: YES | J9: YES | N9: COO | O9: Syed | P9: Saifullah | Q9: mubeen@aidenabled.com | R9: 5108236414 | S9: 231 Market Place | T9: Suite 226 | U9: San Ramon | V9: California | W9: United States | X9: 94583 | Y9: Active
A10: ALPS ALPINE EUROPE GmbH | B10: 2009-09-04T00:00:00-05:00 | C10: http://www.alpine.com | D10: Associate | E10: Tier 1 | F10: Current | H10: YES | O10: Takeshi | P10: Kurosawa | Q10: t-kurosawa@apn.alpine.co.jp | S10: 20-1 Yoshima Industrial Park | U10: Iwaki | V10: Fukushima | W10: Japan | X10: 970-1192 | Y10: Active
A11: ALPS ALPINE EUROPE GmbH | B11: 2009-09-04T00:00:00-05:00 | C11: http://www.alpine.com | D11: Associate | E11: Tier 1 | F11: Current | I11: YES | K11: YES | O11: Klaus | P11: Eitzenberger | Q11: klaus.eitzenberger@alpine.de | S11: Wilhelm-Wagenfeld Str. 1-3 | U11: Munich | V11: - | W11: Germany | X11: 80807 | Y11: Active
A12: ALPS ALPINE EUROPE GmbH | B12: 2009-09-04T00:00:00-05:00 | C12: http://www.alpine.com | D12: Associate | E12: Tier 1 | F12: Current | G12: YES | J12: YES | O12: Rainer | P12: Fischer | Q12: rainer.fischer@alpine.de | S12: Ohmstr. 4 | U12: Unterschleissheim | V12: . | W12: Germany | X12: 85716 | Y12: Active
A13: ALPS ALPINE EUROPE GmbH | B13: 2009-09-04T00:00:00-05:00 | C13: http://www.alpine.com | D13: Associate | E13: Tier 1 | F13: Current | H13: YES | O13: Kyoichi | P13: Mizukami | Q13: add-mizukami@apn.alpine.co.jp | S13: 20-1 Yoshima Industrial Park | U13: Iwaki | V13: Fukushima | W13: Japan | X13: 970-1192 | Y13: Active
A14: ALPS ALPINE EUROPE GmbH | B14: 2009-09-04T00:00:00-05:00 | C14: http://www.alpine.com | D14: Associate | E14: Tier 1 | F14: Current | L14: YES | O14: Markus | P14: Erhardt | Q14: markus.erhardt@alpine.de | S14: Ohmstr. 4 | U14: Unterschleissheim | V14: . | W14: Germany | X14: 85716 | Y14: Active
A15: ALPS ALPINE EUROPE GmbH | B15: 2009-09-04T00:00:00-05:00 | C15: http://www.alpine.com | D15: Associate | E15: Tier 1 | F15: Current | H15: YES | O15: Osamu | P15: Kazama | Q15: o-kazama@apn.alpine.co.jp | S15: 20-1 Yoshima Industrial Park | U15: Iwaki | V15: Fukushima | W15: Japan | X15: 970-1192 | Y15: Active
A16: Altia, Inc. | B16: 2017-07-31T00:00:00-05:00 | C16: http://www.altia.com | D16: Associate | E16: OSV, Middleware, Hardware & Services Suppliers,Other | F16: Current | H16: YES | N16: VP of Marketing | O16: Jason | P16: Williamson | Q16: jasonw@altia.com | R16: 719-598-4299 | S16: 111 S Tejon St | T16: Suite 204 | U16: Colorado Springs | V16: Colorado | W16: United States | X16: 80903 | Y16: Active
A17: Altia, Inc. | B17: 2017-07-31T00:00:00-05:00 | C17: http://www.altia.com | D17: Associate | E17: OSV, Middleware, Hardware & Services Suppliers,Other | F17: Current | G17: YES | N17: Director of Marketing Communications | O17: Cheryl | P17: Falk | Q17: cherylf@altia.com | R17: 719-598-4299 | S17: 111 S Tejon St | T17: Suite 204 | U17: Colorado Springs | V17: Colorado | W17: United States | X17: 80903 | Y17: Active
A18: Altia, Inc. | B18: 2017-07-31T00:00:00-05:00 | C18: http://www.altia.com | D18: Associate | E18: OSV, Middleware, Hardware & Services Suppliers,Other | F18: Current | J18: YES | N18: Accounts Payable | O18: Accounts | P18: Payable | Q18: accountspayable@altia.com | R18: 719-598-4299 | S18: 111 S Tejon St | T18: Suite 204 | U18: Colorado Springs | V18: Colorado | W18: United States | X18: 80903 | Y18: Active
A19: ANELLO Photonics | B19: 2022-03-01T00:00:00-06:00 | C19: www.anellophotonics.com | D19: Start-up Associate | E19: Silicon or Semiconductor,Tier 1 | F19: Current | G19: YES | I19: YES | J19: YES | K19: YES | L19: YES | N19: VP Business Development and Partnerships | O19: Gerhard | P19: Boiciuc | Q19: gerhard.boiciuc@anellophotonics.com | R19: 13125055356 | S19: 4699 Old Ironsides Drive | T19: Suite 150 | U19: Santa Clara | V19: California | W19: United States | X19: 95054 | Y19: Active
A20: ANELLO Photonics | B20: 2022-03-01T00:00:00-06:00 | C20: www.anellophotonics.com | D20: Start-up Associate | E20: Silicon or Semiconductor,Tier 1 | F20: Current | H20: YES | N20: VP of Operations | O20: Kevin | P20: Sullivan | Q20: kevin@anellophotonics.com | R20: 13125055356 | S20: 4699 Old Ironsides Drive | T20: Suite 150 | U20: Santa Clara | V20: California | W20: United States | X20: 95054 | Y20: Active
A21: ANSYS, Inc. | B21: 2022-12-22T00:00:00-06:00 | C21: www.ansys.com | D21: Associate | E21: Other,OSV, Middleware, Hardware & Services Suppliers | F21: Current | J21: YES | K21: YES | N21: Accounts Payable | O21: Susan | P21: Gaydos | Q21: na-payables@ansys.com | R21: 7247463304 | S21: 2600 Ansys Drive | U21: Canonsburg | V21: Pennsylvania | W21: United States | X21: 15317 | Y21: Active
A22: ANSYS, Inc. | B22: 2022-12-22T00:00:00-06:00 | C22: www.ansys.com | D22: Associate | E22: Other,OSV, Middleware, Hardware & Services Suppliers | F22: Current | G22: YES | O22: Elaine | P22: DiLisio | Q22: elaine.dilisio@ansys.com | S22: 2600 Ansys Drive | U22: Canonsburg | V22: Pennsylvania | W22: United States | X22: 15317 | Y22: Active
A23: Aptiv Services Deutschland GmbH | B23: 2009-03-16T00:00:00-05:00 | D23: Associate | E23: Tier 1 | F23: Current | G23: YES | O23: Florian | P23: Baumann | Q23: florian.baumann@aptiv.com | S23: Hildesheim Technical Center | T23: Am Technologiepark 1 | U23: Wuppertal | W23: Germany | X23: 42119 | Y23: Active
A24: Aptiv Services Deutschland GmbH | B24: 2009-03-16T00:00:00-05:00 | D24: Associate | E24: Tier 1 | F24: Current | J24: YES | O24: Lidia | P24: Constantin | Q24: lidia.constantin@aptiv.com | S24: Hildesheim Technical Center | T24: Am Technologiepark 1 | U24: Wuppertal | W24: Germany | X24: 42119 | Y24: Active
A25: Area X.O operated by Invest Ottawa | B25: 2022-06-07T00:00:00-05:00 | C25: http://www.areaxo.com | D25: Start-up Associate | E25: OSV, Middleware, Hardware & Services Suppliers | F25: Current | G25: YES | I25: YES | J25: YES | K25: YES | N25: Vice President, Strategy, Marketing and Communications | O25: Sonya | P25: Shorey | Q25: sshorey@investottawa.ca | R25: 6138519416 | S25: 7 Bayview Station Rd. | U25: Ottawa | V25: Ontario | W25: Canada | X25: K1Y 3B5 | Y25: Active
A26: Area X.O operated by Invest Ottawa | B26: 2022-06-07T00:00:00-05:00 | C26: http://www.areaxo.com | D26: Start-up Associate | E26: OSV, Middleware, Hardware & Services Suppliers | F26: Current | H26: YES | N26: President and CEO | O26: Michael | P26: Tremblay | Q26: mtremblay@investottawa.ca | R26: 613.292.6574 | S26: 7 Bayview Station Rd. | U26: Ottawa | V26: Ontario | W26: Canada | X26: K1Y 3B5 | Y26: Active
A27: Area X.O operated by Invest Ottawa | B27: 2022-06-07T00:00:00-05:00 | C27: http://www.areaxo.com | D27: Start-up Associate | E27: OSV, Middleware, Hardware & Services Suppliers | F27: Current | L27: YES | N27: Strategic Market Director, Area X.O | O27: Kelly | P27: Daize | Q27: kdaize@investottawa.ca | R27: 613-878-3126 | S27: 7 Bayview Station Rd. | U27: Ottawa | V27: Ontario | W27: Canada | X27: K1Y 3B5 | Y27: Active
A28: ARM LTD | B28: 2010-01-27T00:00:00-06:00 | C28: http://www.arm.com/ | D28: Associate | E28: Silicon or Semiconductor | F28: Current | J28: YES | O28: Girish | P28: Shirasat | Q28: Girish.Shirasat@arm.com | S28: Bretonischer Ring 16 | U28: Munich | V28: Grasbrunn | W28: Germany | X28: 85630 | Y28: Active
A29: ARM LTD | B29: 2010-01-27T00:00:00-06:00 | C29: http://www.arm.com/ | D29: Associate | E29: Silicon or Semiconductor | F29: Current | G29: YES | O29: Matt | P29: Spencer | Q29: matt.spencer@arm.com | S29: FAO Accounts Payable | T29: 110 Fulbourn Road | U29: Cambridge | V29: - | W29: United Kingdom | X29: CB1 9NJ | Y29: Active
A30: ARM LTD | B30: 2010-01-27T00:00:00-06:00 | C30: http://www.arm.com/ | D30: Associate | E30: Silicon or Semiconductor | F30: Current | H30: YES | O30: Richard | P30: York | Q30: Richard.York@arm.com | S30: FAO Accounts Payable | T30: 110 Fulbourn Road | U30: Cambridge | V30: - | W30: United Kingdom | X30: CB1 9NJ | Y30: Active
A31: BlackBerry UK Limited | B31: 2023-04-05T00:00:00-05:00 | C31: www.blackberry.com | D31: Associate | E31: OSV, Middleware, Hardware & Services Suppliers | F31: Current | G31: YES | O31: Nick | P31: Russell | Q31: nrussell@blackberry.com | S31: 2300 University Ave. E | U31: Waterloo | V31: Ontario | W31: Canada | X31: N2K 0A2 | Y31: Active
A32: BlackBerry UK Limited | B32: 2023-04-05T00:00:00-05:00 | C32: www.blackberry.com | D32: Associate | E32: OSV, Middleware, Hardware & Services Suppliers | F32: Current | J32: YES | O32: Accounts | P32: Payable | Q32: accountspayable@blackberry.com | S32: 2300 University Ave. E | U32: Waterloo | V32: Ontario | W32: Canada | X32: N2K 0A2 | Y32: Active
A33: BMW AG | B33: 2009-03-16T00:00:00-05:00 | C33: http://www.bmw.com | D33: Charter | E33: OEM | F33: Current | H33: YES | K33: YES | L33: YES | N33: - | O33: Graham | P33: Smethurst | Q33: graham.smethurst@bmw.de | R33: 89.382.52307 | S33: Max-Diamand Strasse 13 | U33: Munich | V33: Bavaria | W33: Germany | X33: 80937 | Y33: Active
A34: BMW AG | B34: 2009-03-16T00:00:00-05:00 | C34: http://www.bmw.com | D34: Charter | E34: OEM | F34: Current | G34: YES | J34: YES | O34: Jochen | P34: Boehm | Q34: Jochen.Boehm@bmw.de | S34: Kreditorische Abrechnung | U34: MÃ¼nchen | V34: - | W34: Germany | X34: 80788 | Y34: Active
A35: Cinemo GmbH | B35: 2009-12-04T00:00:00-06:00 | C35: http://www.cinemo.com | D35: Associate | E35: OSV, Middleware, Hardware & Services Suppliers | F35: Current | H35: YES | N35: Vice President Product & Business Development | O35: Ivan | P35: Dimkovic | Q35: idimkovic@cinemo.com | S35: Kaiserstr. 72 | U35: Karlsruhe | V35: - | W35: Germany | X35: 76133 | Y35: Active
A36: Cinemo GmbH | B36: 2009-12-04T00:00:00-06:00 | C36: http://www.cinemo.com | D36: Associate | E36: OSV, Middleware, Hardware & Services Suppliers | F36: Current | G36: YES | I36: YES | J36: YES | K36: YES | L36: YES | N36: VP Sales and Operations | O36: Elif | P36: EdÃ© | Q36: eede@cinemo.com | R36: +49 175 2449 053 | S36: Kaiserstr. 72 | U36: Karlsruhe | V36: - | W36: Germany | X36: 76133 | Y36: Active
A37: COVESA | B37: 2018-03-01T00:00:00-06:00 | D37: Core 2022 | F37: Current | G37: YES | J37: YES | O37: Steve | P37: Crumb | Q37: scrumb@genivi.org | S37: 2400 Camino Ramon | U37: San Ramon | V37: California | W37: United States | X37: 94583 | Y37: Active
A38: CTAG | B38: 2010-11-29T00:00:00-06:00 | C38: http://www.ctag.com | D38: Associate | E38: OSV, Middleware, Hardware & Services Suppliers | F38: Current | G38: YES | J38: YES | O38: Carlos | P38: Rosales | Q38: carlos.rosales@ctag.com | S38: Polfgono Industrial a Granxa Calle A | T38: Parcelan 249-250 | U38: Porrifio | V38: Pontevedra | W38: Spain | X38: 36400 | Y38: Active
A39: CTAG | B39: 2010-11-29T00:00:00-06:00 | C39: http://www.ctag.com | D39: Associate | E39: OSV, Middleware, Hardware & Services Suppliers | F39: Current | I39: YES | K39: YES | N39: Electronica and ITS Director | O39: Francisco | P39: Sanchez | Q39: francisco.sanchez@ctag.com | R39: 34986900300 | S39: Polfgono Industrial a Granxa Calle A | T39: Parcelan 249-250 | U39: Porrifio | V39: Pontevedra | W39: Spain | X39: 36400 | Y39: Active
A40: CYMOTIVE Technologies | B40: 2022-04-05T00:00:00-05:00 | C40: https://www.cymotive.com/ | D40: Start-up Associate | E40: OSV, Middleware, Hardware & Services Suppliers,Other | F40: Current | G40: YES | N40: Head of Marketing | O40: Susan | P40: Becker | Q40: susan.becker@cymotive.com | R40: 972504747895 | S40: 94 Yigal Alon Street | T40: Tower 1 | U40: Tel Aviv | W40: Israel | X40: 6789155 | Y40: Active
...

Sheet Member Status
R3: Level | S3: Fee
R4: Charter | S4: 75000
B5: Status | C5: Count of Status | D5: Sum of Membership Level $ | E5: Count of Company | R5: Core | S5: 30000
B6: green | C6: 48 | D6: 767000 | E6: 48 | R6: Associate | S6: 12000
B7: red | C7: 16 | D7: 162000 | E7: 16 | R7: StartUp PLUS | S7: 5000
B8: Associate | C8: 13 | D8: 156000 | E8: 13 | R8: StartUp | S8: 2000
B9: Advanced Driver Information Technology Corp. | C9: 1 | D9: 12000 | E9: 1
B10: ALPS ALPINE EUROPE GmbH | C10: 1 | D10: 12000 | E10: 1
B11: CTAG | C11: 1 | D11: 12000 | E11: 1
B12: Garmin Switzerland GmbH | C12: 1 | D12: 12000 | E12: 1
B13: GitHub | C13: 1 | D13: 12000 | E13: 1
B14: Honda R&D Europe | C14: 1 | D14: 12000 | E14: 1
B15: JOYNEXT | C15: 1 | D15: 12000 | E15: 1
B16: L&T Technologies | C16: 1 | D16: 12000 | E16: 1
B17: NNG | C17: 1 | D17: 12000 | E17: 1
B18: OBIGO Inc. | C18: 1 | D18: 12000 | E18: 1
B19: Otonomo | C19: 1 | D19: 12000 | E19: 1
B20: RENAULT Group | C20: 1 | D20: 12000 | E20: 1
... B27: Grand Total | C27: 77 | D27: 1033000 | E27: 77
